BEGIN:VCALENDAR
VERSION:2.0
PRODID:Events Booking
BEGIN:VEVENT
UID:69e87e37e303a
SUMMARY:Tälttur Ramundberget – Skarsfjället – Fältjägarn – Ramund
 berget
DESCRIPTION:Sektion väst inbjuder till en 4 dagars tälttur i Härjedalsfj
 ällen. Dag 1 tar vi oss frånBruksvallarna via Klinken och utmed Tvärån
  upp till foten av Skarsfjället där vi slår läger.Dag 2 gör vi en top
 ptur upp på Skarsfjällets toppar om vädret tillåter och vänder åter 
 tilllägerplatsen. Dag 3 rundar vi mittåstötarna i nordost och söker os
 s mot Mittåsjön. Dag 4 tarvi oss ut mot leden söder om Fältjägarstuga
 n för vidare vandring ner mot Ramundberget.
 Var: Ramundberget. Exakt sa
 mlingsplats meddelas på infoträff.
LOCATION:Ramdunberget
DTSTART:20260917T080000Z
DTEND:20260920T150000Z
DTSTAMP:20260313T104257Z
ORGANIZER;CN=Svenska Fjällklubben:MAILTO:joomla@fjallklubben.se
GEO:1;0
X-APPLE-STRUCTURED-LOCATION;VALUE=URI;X-ADDRESS=Ramdunberget;X-APPLE-RADIUS
 =72;X-TITLE=Ramundberget. Exakt samlingsplats meddelas på infoträff.:1;0
END:VEVENT
END:VCALENDAR