BEGIN:VCALENDAR
VERSION:2.0
PRODID:Events Booking
BEGIN:VEVENT
UID:69e87da7daa9b
SUMMARY:Årsstämma och Fjällträff 2026
DESCRIPTION:
LOCATION:Bruksvallarna\, Sverige
DTSTART:20260408T220000Z
DTEND:20260411T220000Z
DTSTAMP:20241114T061118Z
ORGANIZER;CN=Svenska Fjällklubben:MAILTO:joomla@fjallklubben.se
GEO:62.641461;12.418536
X-APPLE-STRUCTURED-LOCATION;VALUE=URI;X-ADDRESS=Bruksvallarna\, Sverige;X-A
 PPLE-RADIUS=72;X-TITLE=Bruksvallarna:62.641461;12.418536
END:VEVENT
END:VCALENDAR