BEGIN:VCALENDAR
VERSION:2.0
PRODID:Events Booking
BEGIN:VEVENT
UID:69e87dc871cdf
SUMMARY:Klubbstämma
DESCRIPTION:För info följ länken
 https://fjallklubben.se/medlem/sfk-ti
 psar/251-klubbstaemma-2026-handlingar-och-webblaenk
 &nbsp\;
LOCATION:Bruksvallarna\, Sverige
DTSTART:20260411T150000Z
DTEND:20260411T163000Z
DTSTAMP:20260330T042038Z
ORGANIZER;CN=Svenska Fjällklubben:MAILTO:joomla@fjallklubben.se
GEO:62.641461;12.418536
X-APPLE-STRUCTURED-LOCATION;VALUE=URI;X-ADDRESS=Bruksvallarna\, Sverige;X-A
 PPLE-RADIUS=72;X-TITLE=Bruksvallarna:62.641461;12.418536
END:VEVENT
END:VCALENDAR