BEGIN:VCALENDAR
VERSION:2.0
PRODID:Events Booking
BEGIN:VEVENT
UID:69e8bbcb2ac15
SUMMARY:Risker kring kolmonoxidförgiftning\, Webinar
DESCRIPTION:2025 markerade en mycket olycklig topp i antalet dödsfall i de
 n svenska fjällvärlden. Ett antal av dessa har kunnat härledas till kol
 monoxidförgiftning\, bland annat vid användning av stormkök för att sm
 älta snö vid vintertältning.&nbsp\;
 &nbsp\;
 Gasen kolmonoxid (CO) 
 är en mycket giftig färg- och luktlös gas och kallas därför ibland f
 ör \"the silent killer\". Kolmonoxidförgiftning uppstår i huvudsak vid 
 brand i organiska material i slutna rum\, till exempel vid bränder. Men d
 en uppstår också vid ofullständig förbränning av kolhaltiga material 
 som exempelvis vid eldning med gasol\, ved\, bensin och fotogen i dåligt 
 ventilerade utrymmen.
 &nbsp\;
 I detta webbinarium får du information 
 om riskerna med att elda och använda stormkök i utrymmen som vindskydd\,
  snögrottor och tält och framförallt hur du behöver agera för att min
 imera riskerna. Webbinariet leds av Leo Schneede\, säkerhetsansvarig och 
 vice ordförande i Svenska fjällklubben. Moderator: Ulf Andersson-Greek\,
  Fjällets redaktion.&nbsp\;
 &nbsp\;
 Webbinariet riktar sig främst ti
 ll Fjällklubbens medlemmar och är kostnadsfritt.&nbsp\;
 &nbsp\;
 Meda
 n du inväntar webbinariet får du gärna ta del av Leos informativa artik
 el i ämnet på vår webbsida:
 KOLMONOXID OCH RISKER MED STORMKÖK – I
 NCIDENT VINTERN 2023/2024 - Svenska Fjällklubben
 
 Anmälan till webbi
 narierna sker på e-post till anmalan@fjallklubben.se\, ange vilket webina
 r du anmäler dig till.&nbsp\;
DTSTART:20260311T180000Z
DTEND:20260311T190000Z
DTSTAMP:20260302T100837Z
ORGANIZER;CN=Svenska Fjällklubben:MAILTO:joomla@fjallklubben.se
END:VEVENT
END:VCALENDAR