BEGIN:VCALENDAR
VERSION:2.0
PRODID:Events Booking
BEGIN:VEVENT
UID:69e83990ed796
SUMMARY:Älgön\, vandring med geologitema
DESCRIPTION:Älgön är en av öarna i skärgården norr om Göteborg. Med 
 en vacker natur och en intressant geologi har ön varit föremål för geo
 logiska undersökningar under de senaste årtiondena.&nbsp\;
 Vi gör en 
 vandring på ön och tittar på intressanta lokaler och pratar om Västkus
 tens geologi och hur den förhåller sig till resten av Sverige och den Sk
 andinaviska fjällkedjan. Vi går också in på vilka mysterier geologerna
  har försökt lösa och varför just Älgön varit särskilt intressant.
 
 Vår klubbkamrat Mikael Edland Faber som leder vandringen är geolog och
  Fjälledare.
 Obligatorisk anmälan: Senast den 17/9 via mail mikael.edl
 and@me.com
 Samlingsplats: Rörtångens brygga där båten avgår 09.05. 
 Missa inte båten!
 Transport: Parkera på allmän parkering vid infarten
  till Rörtången och därefter ca 5 minuters promenad till färjebryggan.
  Fri parkering. Det finns några få parkeringsplatser nere vid hamnen som
  även de är gratis men dessa brukar oftast vara upptagna. Övriga platse
 r runt hamnen är förhyrda. Västtrafiks färja avgår 9.05 från Rörtå
 ngens brygga. Vi är tillbaka i Rörtången kl 15.00.
 Övrigt: Missa int
 e att anmäla dig till Mikael\,&nbsp\;Glöm inte lunch/fika samt möjlighe
 t att betala färdbiljett på färjan.
DTSTART:20210919T070000Z
DTEND:20210919T130000Z
DTSTAMP:20260422T045928Z
ORGANIZER;CN=Svenska Fjällklubben:MAILTO:joomla@fjallklubben.se
END:VEVENT
END:VCALENDAR