BEGIN:VCALENDAR
VERSION:2.0
PRODID:Events Booking
BEGIN:VEVENT
UID:69e812ffe65d6
SUMMARY:Årsmöte SFK Väst
DESCRIPTION:SFK Göteborg inbjuder till årsmöte.
 Eftersom SFK Göteborg
  inte längre har en styrelse utan endast kontaktpersoner är årsmötesf
 örhandlingarna ganska snabbt avklarade - och ingen behöver vara rädd f
 ör att bli invald i en styrelse. Kom därför för en stunds trevlig samv
 aro. Efter formaliteterna pratar vi om kommande planer för fjällturer - 
 och kanske minnen från forna dagar.
 Vi är också öppna för alla tän
 kbara förslag på aktiviteter framöver\, så vi pratar om det också.
 
 Lokal:&nbsp\;Fästet\, IK Vikingens klubbstuga vid Slottsskogsvallen
 Tid
 : Måndag 26 januari kl 19:00
 Anmälan: senast lördag 24 januari till F
 redrik Hagstedt: sms 0768-19 67 34. (Anmäl er gärna tidigare\,)
 &nbsp\
 ;
DTSTART:20260126T180000Z
DTEND:20260126T200000Z
DTSTAMP:20250127T140119Z
ORGANIZER;CN=Svenska Fjällklubben:MAILTO:joomla@fjallklubben.se
END:VEVENT
END:VCALENDAR