BEGIN:VCALENDAR
VERSION:2.0
PRODID:Events Booking
BEGIN:VEVENT
UID:69e83a0550f91
SUMMARY:Årsmöte Göteborgssektionen
DESCRIPTION:Årsmöte för Göteborgssektionen blir den&nbsp\;21 februari&n
 bsp\; kl 19.00. Styrelsen har valt att arrangera mötet digitalt för att 
 underlätta deltagande under nuvarande smittspridning. Efter sedvanligt å
 rsmöte blir det inspiration i form av \"Våra favoritplatser i Fjällen\"
  där du som medlem kan bidra. Läs mer längre ned hur du kan bidra. Sist
 a dag att lämna in bidrag är 14/2.
 Mötet kommer att hållas digitalt 
 via Zoom. För att delta så behöver man endast ha en dator med högtalar
 e och webbläsare. Vi kommer att skicka ut ett mail till alla medlemmar me
 d länk till mötet när det närmar sig tillsammans med årsmöteshandlin
 gar.
 ---------------------------------------------
 Tipsa om någon av 
 dina favoritplatser i fjällen
 Välj en avgränsad plats\, tex en del av
  en dalgång\, en sjö\, en skog\, en fjälltopp. Gärna en plats som få 
 besöker. Välj en till tre bilder från denna plats. Beskriv platsen med 
 några få meningar\, hur du upplevt den. Gör också en kortfattad beskri
 vning av var platsen finns\, i vilket område och vilka vägar man kan ta 
 sig dit på. Vi kommer sedan att pricka in platsen på en översiktskarta.
 
 Alla är välkomna att bidra\, sänd in bilder och kort text på mejl t
 ill&nbsp\;thomas.schon32(Snabel A)gmail.com&nbsp\;(Snabel A)=@ senast 14 f
 ebruari. Helst vill vi sedan att du på mötet berättar kort om platsen. 
 Men även om du inte skulle kunna vara med på mötet är du välkommen at
 t sända bilder och text.
 PS! Bilderna sparas lämpligen i .jpg format o
 ch ca 1MB / bild. Bilderna ses som © och används enbart vid detta tillf
 älle
 &nbsp\;&nbsp\;
DTSTART:20220221T180000Z
DTSTAMP:20211216T080243Z
ORGANIZER;CN=Svenska Fjällklubben:MAILTO:joomla@fjallklubben.se
END:VEVENT
END:VCALENDAR