BEGIN:VCALENDAR
VERSION:2.0
PRODID:Events Booking
BEGIN:VEVENT
UID:69e83a050753d
SUMMARY:Årsmöte Göteborgssektionen
DESCRIPTION:Årsmöte för Göteborgssektionen.
 Utöver årsmötesförhan
 dlingar planerar vi någon form av kort föredrag\, info kommer senare. De
 ssutom finns tillfälle att träffa andra medlemmar och byta erfarenheter 
 och idéer inför kommande fjällturer.
 Plats: Fästet\, IK Vikingens kl
 ubbstuga intill Slottsskogsvallen
 Tid: kl 19.00
DTSTART:20230220T180000Z
DTEND:20230220T193000Z
DTSTAMP:20230122T175055Z
ORGANIZER;CN=Svenska Fjällklubben:MAILTO:joomla@fjallklubben.se
END:VEVENT
END:VCALENDAR