BEGIN:VCALENDAR
VERSION:2.0
PRODID:Events Booking
BEGIN:VEVENT
UID:69e8246cc05d8
SUMMARY:Årsmöte Göteborgssektionen
DESCRIPTION:Årsmöte för Göteborgssektionen.
 Efter&nbsp\;årsmötesfö
 rhandlingarna anordnas ett Gästföredrag med Mats Björkman\, Forskare GU
 ’s Universitet och Latnjajaure forskningsstation i Abiskofjällen.
 Mat
 s Björkman hade för ett par år sedan\, i ett samarbete mellan Naturhist
 oriska museet och SFK\, en mycket uppskattad föreläsning om permafrosten
 s vara eller icke vara. Ikväll tar han oss vidare i de forskningsaktivite
 ter och projekt han är med och driver vid Latnjajaure. Vi får bl.a en in
 blick i ITEX (International Tundra Experiment). Missa inte denna möjlighe
 t att få ta del av högaktuell forskning om framtida klimatförändringar
 .
 Plats: Fästet\, IK Vikingens klubbstuga intill Slottsskogsvallen
 Ti
 d: kl 19.00
DTSTART:20240226T180000Z
DTEND:20240226T193000Z
DTSTAMP:20230122T175055Z
ORGANIZER;CN=Svenska Fjällklubben:MAILTO:joomla@fjallklubben.se
END:VEVENT
END:VCALENDAR