BEGIN:VCALENDAR
VERSION:2.0
PRODID:Events Booking
BEGIN:VEVENT
UID:69e8521f1e10e
SUMMARY:Årsmöte Göteborgssektionen
DESCRIPTION:I samband med årsmötet kommer Ulf von Sydow att berätta om F
 jällklubbens Fjällmiljögrupp&nbsp\;och deras påverkansarbete. Det komm
 er att finnas möjlighet att ställa frågor och diskutera detta viktiga o
 mråde.
 Mötet kommer att hållas digitalt via Zoom. För att delta så 
 behöver man endast ha en dator med högtalare och webbläsare\, mer detal
 jerad information kommer skickas ut senare. Vi kommer att skicka ut ett ma
 il till alla berörda medlemmar med länk till mötet när det närmar sig
  tillsammans med årsmöteshandlingar.
 Har du inte din email inlagd i me
 dlemsregistret kan du maila oss för att få länken till mötet. Vi bruka
 r maila ut lokal programinformation och brukar du inte få sådana mail s
 å har du antagligen fel adress i medlemsregistret.
 Har du några funder
 ingar är det bara att kontakat någon av oss i styrelsen.
 &nbsp\;
 &nb
 sp\;
DTSTART:20210222T180000Z
DTEND:20210222T191500Z
DTSTAMP:20260422T064415Z
ORGANIZER;CN=Svenska Fjällklubben:MAILTO:joomla@fjallklubben.se
END:VEVENT
END:VCALENDAR