BEGIN:VCALENDAR
VERSION:2.0
PRODID:Events Booking
BEGIN:VEVENT
UID:69e851cf09b15
SUMMARY:Årsmöte och bildvisning\, Botswana
DESCRIPTION:Gunnel Ragnhult visar bilder och berättar om sin resa i Botswa
 na i januari 2019. Stadgeenligt årsmöte.
 Fjällklubben bjuder på fika
 
 Lokal: Fästet\, IK Vikingens klubbstuga vid Slottsskogsvallen
 Info: 
 Jesper Holst\, 070-214 22 82
DTSTART:20190218T180000Z
DTSTAMP:20260422T064255Z
ORGANIZER;CN=Svenska Fjällklubben:MAILTO:joomla@fjallklubben.se
END:VEVENT
END:VCALENDAR