BEGIN:VCALENDAR
VERSION:2.0
PRODID:Events Booking
BEGIN:VEVENT
UID:69e853ec2bf1c
SUMMARY:Årsmöte och bildvisning\, Patagonien
DESCRIPTION:Gunnel Ragnhult visar bilder och berättar om sin resa i södra
  Patagonien\, Chile i december 2016. Stadgeenligt årsmöte. Fjällklubben
  bjuder på fika
 Lokal: Sternstugan i Skatås.
 Info: Jesper Holst\, 07
 0-214 22 82
DTSTART:20180219T180000Z
DTSTAMP:20260422T065156Z
ORGANIZER;CN=Svenska Fjällklubben:MAILTO:joomla@fjallklubben.se
END:VEVENT
END:VCALENDAR