BEGIN:VCALENDAR
VERSION:2.0
PRODID:Events Booking
BEGIN:VEVENT
UID:69e8244d8650b
SUMMARY:Bokcirkel - samtal kring en bok
DESCRIPTION:Vi träffas på Stadsbiblioteket i Göteborg där vi kan låna 
 ett grupprum eller sitta i caféet. Samling vid receptionen 18:00.
 Dagen
 s bokprat handlar om boken Stöld (2021) av Ann-Helén Laestadius. Reflekt
 ioner kring bokens innehåll\, renskötarlivet i en by norr om polcirkeln 
 och spänningarna mellan samer och andra bybor.
 Läs boken och kom till 
 vårt bokprat.
 &nbsp\;
 Anmälan senast måndag 18 mars till Anna Sjöd
 in via sms 0730-867967
DTSTART:20240320T170000Z
DTEND:20240118T190000Z
DTSTAMP:20240118T131927Z
ORGANIZER;CN=Svenska Fjällklubben:MAILTO:joomla@fjallklubben.se
END:VEVENT
END:VCALENDAR