BEGIN:VCALENDAR
VERSION:2.0
PRODID:Events Booking
BEGIN:VEVENT
UID:69e83963acb03
SUMMARY:Bokcirkel – samtal kring en bok
DESCRIPTION:Vi träffas på Stadsbiblioteket i Göteborg där vi kan låna 
 ett grupprum eller sitta i caféet. Samling vid receptionen 18:30.
 Dagen
 s bokprat handlar om boken Sova ute – om att finna sitt lugn i naturen a
 v Markus och Frida Torgeby. Reflektioner kring utomhusliv och friluftsliv.
  Vad gör att vi söker oss ut och känner oss bekväma med att sova och v
 ara ute?
 Läs boken och kom till vårt bokprat.
 Anmälan senast tisdag
  14 mars till Anna Sjödin via sms 0730-867967
DTSTART:20230315T173000Z
DTEND:20230315T190000Z
DTSTAMP:20230122T175531Z
ORGANIZER;CN=Svenska Fjällklubben:MAILTO:joomla@fjallklubben.se
END:VEVENT
END:VCALENDAR