BEGIN:VCALENDAR
VERSION:2.0
PRODID:Events Booking
BEGIN:VEVENT
UID:69e853318c9b8
SUMMARY:European Outdoor Film Tour
DESCRIPTION:Välkommen till Bio Roy för att se några av årets bästa out
 door filmer. Fjällklubben är nu samarbetspartner med European Outdoor Fi
 lm Tour och medlemmar i Fjällklubben kan köpa biljetter till reducerat p
 ris. Ordinarie pris 175 kr. Fjällklubben kommer finnas på plats under kv
 ällen på Bio Roy. Programmet och mer information finns på deras hemsida
 .
 &nbsp\;
 Lokal: Bio Roy\, Kungsportsavenyn 45\, Göteborg.
 Biljett:
  Biljett köps på deras hemsida. Medlemmar i Fjällklubben får en rabatt
 kod genom att hämta en rabattkod på vår medlemssida&nbsp\;(https://fjal
 lklubben.se/medlem/medlemssidor)
 Info: Jesper Holst tel. 070-214 22 82

  
DTSTART:20191120T190000Z
DTSTAMP:20260422T064849Z
ORGANIZER;CN=Svenska Fjällklubben:MAILTO:joomla@fjallklubben.se
END:VEVENT
END:VCALENDAR