BEGIN:VCALENDAR
VERSION:2.0
PRODID:Events Booking
BEGIN:VEVENT
UID:69e83b0f38a9d
SUMMARY:Fjällvecka Katterjaure  7/8 – 13/8  2023 - Fullbokad
DESCRIPTION:Göteborgssektionen planerar att boka SFK:s klubbstuga vid Katt
 erjaure vecka 32 2023. Eftersom stugan måste bokas i mycket god tid när 
 det gäller större sällskap så vill vi ha in anmälan från sektionens 
 medlemmar senast 1/1 2023.
 För de som inte besökt Katterjaurestugan s
 å ligger den längs Nordkalottleden endast ca 4km från Katterjåkk(nära
  Riksgränsen) som nås med tåg\, buss eller bil. Stugan ligger vackert b
 elägen vid Gátterjávri på ca 700m h\, vilket betyder kalfjällsmiljö 
 i det här området. Eftersom västra delen av Gátterjávri ligger i Norg
 e är stugan belägen knappt 1 km från norska gränsen vilket möjliggör
  turer in i Norge med fantastiska vyer bl.a över Narviksfjällen och Romb
 akksfjorden.
 Följer man Nordkalottleden söderut i Dossagevággi vandra
 r man längs slingrande vattendrag med Vuoiddasriida’s mäktiga branter 
 i öster och glaciär beklädda toppar in mot Norge. Inom en lite längre 
 dagsturs håll nås ex Hoiganvággi som är en vacker dalgång i sydöstli
 g riktning. En tur över Láirecorru i östlig riktning ger fina utsikter 
 både in i Vassivággi och västerut över Narviksfjällen.
 Ja\, för in
 tresserade gäller det alltså att anmäla sig senast 230101 till thomas .
  schon32 @ gmail . com (ta bort mellanrummen i adressen) och eftersom stug
 an innehåller begränsat antal platser så gäller först till kvarn.
 P
 S! Ett förslag till frivilligt turprogram kommer att skickas ut till delt
 agarna innan sommaren. 
DTSTART:20230806T220000Z
DTEND:20230812T220000Z
DTSTAMP:20221206T083946Z
ORGANIZER;CN=Svenska Fjällklubben:MAILTO:joomla@fjallklubben.se
END:VEVENT
END:VCALENDAR