BEGIN:VCALENDAR
VERSION:2.0
PRODID:Events Booking
BEGIN:VEVENT
UID:69e854903925d
SUMMARY:Fjällvett på sommarfjället - INSTÄLLD!
DESCRIPTION:Föreläsning som vänder sig mot allmänheten med inspiration 
 och grundläggande kunskaper om vandring på sommarfjället.
 Plats: Göt
 eborg Stadsbibliotek
DTSTART:20200525T220000Z
DTEND:20200525T220000Z
DTSTAMP:20260422T065440Z
ORGANIZER;CN=Svenska Fjällklubben:MAILTO:joomla@fjallklubben.se
END:VEVENT
END:VCALENDAR