BEGIN:VCALENDAR
VERSION:2.0
PRODID:Events Booking
BEGIN:VEVENT
UID:69e85341c9f5a
SUMMARY:Fjällvett på sommarfjället - INSTÄLLD!
DESCRIPTION:Föreläsning som vänder sig mot allmänheten med inspiration 
 och grundläggande kunskaper om vandring på sommarfjället.
 Plats: Möl
 ndals bibliotek.
DTSTART:20200511T220000Z
DTEND:20200511T220000Z
DTSTAMP:20260422T064905Z
ORGANIZER;CN=Svenska Fjällklubben:MAILTO:joomla@fjallklubben.se
END:VEVENT
END:VCALENDAR