BEGIN:VCALENDAR
VERSION:2.0
PRODID:Events Booking
BEGIN:VEVENT
UID:69e8512b59907
SUMMARY:Föredrag och Årsmöte
DESCRIPTION:Vi arrangerar först årsmöte och efteråt blir det föredrag 
 av vår styrelsemedlem Thomas Schön. Fjällklubben bjuder på fika. Varmt
  välkomna till Fästet i Slottskogen kl 19.00.
 Föredraget kommer handl
 a om den vandring Thomas gjorde förra sommaren från Grövelsjön till Ri
 tsem. Så här beskriver han sitt föredrag
 Under sommaren 2019 ägnade 
 jag 63 dagar till att vandra längs den Svenska Fjällkedjan.En vandring d
 är drivkraften framför allt var nyfikenheten på den del avfjällvärlde
 n som inte är så välbesökt eller brukar hamna i fokus i de mediala spa
 lterna.Under mina vandringar kommer nästan alltid upplevelserna och betra
 ktelserna i första hand.Prestationen och en för mig funktionell relation
  till den tycker jag att jag får på köpet. Detinnebär att jag ofta pri
 oriterar ett lägre tempo som ger mig utrymme att stanna till där jagvill
  och inte bara där jag behöver av praktiska själ.
 Det är absolut int
 e lätt att sammanfatta en sådan här lång vandring så det blir en sele
 ktivskildring i bild och ord om det som berört mig allra mest.
 Lokal: F
 ästet i Slottskogen. Länk till karta. Parkering finns precis utanför. S
 pårvagnshållpats Botaniska.
 Info: Thomas Schön\,&nbsp\;073 257 63 76
 
 
DTSTART:20200217T180000Z
DTEND:20200217T193000Z
DTSTAMP:20260422T064011Z
ORGANIZER;CN=Svenska Fjällklubben:MAILTO:joomla@fjallklubben.se
END:VEVENT
END:VCALENDAR