BEGIN:VCALENDAR
VERSION:2.0
PRODID:Events Booking
BEGIN:VEVENT
UID:69e839c71572d
SUMMARY:Föreläsning: Vandra i fjällen
DESCRIPTION:Fjällvärlden är en unik del av den svenska naturen som varje
  år lockar nya besökare. Är du nyfiken på att besöka fjällvärlden o
 ch kanske göra din första vandring?
 I den här föreläsningen delar S
 venska Fjällklubben med sig av praktiska tips för att göra din vandring
  njutbar och säker\, och vad du bör tänka på för att visa hänsyn til
 l natur och människor. Välkommen!
 Detta är en föreläsning för ovan
 a fjällvandrare. Denna aktivitet riktar sig inte främst till klubbmedlem
 mar\, men tipsa gärna bekanta som kan vara intresserade.
 Andra tillfäl
 let blir på Mölndals stadsbibliotek tisdag 10 maj kl 18.00. Läs mer:
 
 https://bibliotek.molndal.se/sv/event/vandra-i-svenska-fj%C3%A4llen/fdaafa
 d7-97da-4361-bc17-b99eebe6afe6
 &nbsp\;
DTSTART:20220510T160000Z
DTEND:20220510T170000Z
DTSTAMP:20220330T052002Z
ORGANIZER;CN=Svenska Fjällklubben:MAILTO:joomla@fjallklubben.se
END:VEVENT
END:VCALENDAR