BEGIN:VCALENDAR
VERSION:2.0
PRODID:Events Booking
BEGIN:VEVENT
UID:69e83a050631f
SUMMARY:Föreläsning: Vandra i svenska fjällen
DESCRIPTION:Fjällvärlden är en unik del av den svenska naturen som varje
  år lockar nya besökare. Är du nyfiken på att besöka fjällvärlden o
 ch kanske göra din första vandring?
 I den här föreläsningen delar S
 venska Fjällklubben med sig av praktiska tips för att göra din vandring
  njutbar och säker\, och vad du bör tänka på för att visa hänsyn til
 l natur och människor. Välkommen!
 Detta är en föreläsning för ovan
 a fjällvandrare. Denna aktivitet riktar sig inte främst till klubbmedlem
 mar\, men tipsa gärna bekanta som kan vara intresserade.
 Stadsbibliotek
 et i Göteborg (Götaplatsen)\, Trappscenen. Kl 18.00
 Läs mer här
 &n
 bsp\;
 
DTSTART:20230510T160000Z
DTEND:20230510T170000Z
DTSTAMP:20220330T051837Z
ORGANIZER;CN=Svenska Fjällklubben:MAILTO:joomla@fjallklubben.se
END:VEVENT
END:VCALENDAR