BEGIN:VCALENDAR
VERSION:2.0
PRODID:Events Booking
BEGIN:VEVENT
UID:69e839c70958b
SUMMARY:Föreläsning: Vandra i fjällen
DESCRIPTION:Fjällvärlden är en unik del av den svenska naturen som varje
  år lockar nya besökare. Är du nyfiken på att besöka fjällvärlden o
 ch kanske göra din första vandring?
 I den här föreläsningen delar S
 venska Fjällklubben med sig av praktiska tips för att göra din vandring
  njutbar och säker\, och vad du bör tänka på för att visa hänsyn til
 l natur och människor. Välkommen!
 Detta är en föreläsning för ovan
 a fjällvandrare. Denna aktivitet riktar sig inte främst till klubbmedlem
 mar\, men tipsa gärna bekanta som kan vara intresserade.
 Första tillf
 ället blir på Mölnlycke kulturhus\, Lilla salen\, torsdag 28 april kl 1
 8.00. Läs mer: https://kultur.harryda.se/kalender/kalender/2022-03-17-for
 elasning-vandra-i-fjallen.html
 
DTSTART:20220428T160000Z
DTEND:20220428T170000Z
DTSTAMP:20220330T051837Z
ORGANIZER;CN=Svenska Fjällklubben:MAILTO:joomla@fjallklubben.se
END:VEVENT
END:VCALENDAR