BEGIN:VCALENDAR
VERSION:2.0
PRODID:Events Booking
BEGIN:VEVENT
UID:69e850991f8e2
SUMMARY:Claes Grundsten\, Bergtagna bilder
DESCRIPTION:Sveriges kanske främsta fjällfotograf besöker oss för en bi
 ldvisning. Claes Grundsten är en prisbelönt fotograf och författare som
  knappast torde behöva vidare presentation. I mer än femtio år har han 
 vandrat och fotograferat i svenska fjällen. Nästan lika länge har han s
 ökt sig till andra bergstrakter runt om i världen. Sina erfarenheter fr
 ån ett liv på höjderna har han summerat i bilderboken BERGTAGEN. I dett
 a föredrag kommer Claes berätta till sina fantastiska bilder om äventyr
 en och vad det är som gör dessa dramatiska landskap så omistliga.
 Lok
 al: Akademi Valand. Vasagatan 50\, Göteborg. Fri entré. Först till kvar
 n. Lättare fika till försäljning.
 Info: Jesper Holst tel. 070-214 22 
 82
 
DTSTART:20191119T180000Z
DTEND:20191118T230000Z
DTSTAMP:20260422T063745Z
ORGANIZER;CN=Svenska Fjällklubben:MAILTO:joomla@fjallklubben.se
END:VEVENT
END:VCALENDAR