BEGIN:VCALENDAR
VERSION:2.0
PRODID:Events Booking
BEGIN:VEVENT
UID:69e83a87367b1
SUMMARY:Höstvandring med mat-tema
DESCRIPTION:Vandring runt Övre Långevattnet i Svartedalen\, norr om Kung
 älv. Det blir en vandring på ca 6 km med möjlighet att förlänga. Unde
 r vandringen stannar vi till vi ett vindskydd och tar en lite längre rast
 . Där bjuds på smakprov av maträtter och tips kring mat som passar för
  fjällvandringar. Tag även med egen matsäck.
 Samling 10:00 vid P-plat
 s i början av skogsväg till Övre Långevattnet.
 För anmälan\, fråg
 or och vägbeskrivning kontakta Thomas Schön på thomas.schon32 @ gmail.c
 om eller 073 257 63 76
DTSTART:20221112T090000Z
DTEND:20221112T140000Z
DTSTAMP:20220923T065204Z
ORGANIZER;CN=Svenska Fjällklubben:MAILTO:joomla@fjallklubben.se
END:VEVENT
END:VCALENDAR