BEGIN:VCALENDAR
VERSION:2.0
PRODID:Events Booking
BEGIN:VEVENT
UID:69e83b0eee278
SUMMARY:Kebnekaises nordtopp med Pär Axelstjerna
DESCRIPTION:De flesta av oss känner redan till att Kebnekaise är Sveriges
  högsta berg och det känns lugnt och tryggt att det också otvivelaktigt
  kommer att vara så i all överskådlig framtid. Men vad kanske inte alla
  vet är att Kebnekaise-massivet består av två toppar\, Sydtoppen och No
 rdtoppen. Den vackra Sydtoppen med sin snöbeklädda toppglaciär och Nord
 toppen som stadigt står vid hennes sida sju hundra meter bort med fast be
 rg ända upp till toppen. Med rådande klimatförändringar råder numera 
 inga tvivel om att Sydtoppen\, som varit vårt högsta berg längre än vi
  känt till det\, kommer att lämna över epitetet till Nordtoppen. Men va
 d vet vi egentligen om Nordtoppen och vad innebär skiftet?
 Pär Axelstj
 erna&nbsp\;bor i Göteborg och har gett ut två böcker om Kebnekaise. Han
  har sedan tonåren haft ett stort intresse för fotografering och natur. 
 Han kommer nu till oss och berättar mer om Nordtoppen.
 
 Lokal:&nbsp\;
 Fästet\, IK Vikingens klubbstuga vid SlottsskogsvallenFrivillig föranmä
 lan:&nbsp\;kent.hofmann@telia.com&nbsp\;Info:&nbsp\;Kent Hoffman tel.&nbsp
 \;010 721 30 01Övrigt: Fri entre med fika till självkostnadspris
DTSTART:20211115T180000Z
DTEND:20211115T193000Z
DTSTAMP:20260422T050550Z
ORGANIZER;CN=Svenska Fjällklubben:MAILTO:joomla@fjallklubben.se
END:VEVENT
END:VCALENDAR