BEGIN:VCALENDAR
VERSION:2.0
PRODID:Events Booking
BEGIN:VEVENT
UID:69e852b2019fb
SUMMARY:Kebnekaises nordtopp med Pär Axelstjerna
DESCRIPTION:På grund av rådande situation&nbsp\; med Corona och de lokala
  råden för Västra Götaland så väljer vi att skjuta upp det här för
 edraget. Förhoppningsvis har läget förbättrats så att vi kan arranger
 a föredraget efter årsskiftet.
 De flesta av oss känner redan till att
  Kebnekaise är Sveriges högsta berg och det känns lugnt och tryggt att 
 det också otvivelaktigt kommer att vara så i all överskådlig framtid. 
 Men vad kanske inte alla vet är att Kebnekaise-massivet består av två t
 oppar\, Sydtoppen och Nordtoppen. Den vackra Sydtoppen med sin snöbekläd
 da toppglaciär och Nordtoppen som stadigt står vid hennes sida sju hundr
 a meter bort med fast berg ända upp till toppen. Med rådande klimatför
 ändringar råder numera inga tvivel om att Sydtoppen\, som varit vårt h
 ögsta berg längre än vi känt till det\, kommer att lämna över epitet
 et till Nordtoppen. Men vad vet vi egentligen om Nordtoppen och vad inneb
 är skiftet?
 Pär Axelstjerna bor i Göteborg och har gett ut två böck
 er om Kebnekaise. Han har sedan tonåren haft ett stort intresse för foto
 grafering och natur. Han kommer nu till oss och berättar mer om Nordtoppe
 n.
 
 Lokal: Fästet\, IK Vikingens klubbstuga vid Slottsskogsvallen
 I
 nfo: Jesper Holst tel. 070-214 22 82
DTSTART:20201123T180000Z
DTEND:20201123T193000Z
DTSTAMP:20260422T064642Z
ORGANIZER;CN=Svenska Fjällklubben:MAILTO:joomla@fjallklubben.se
END:VEVENT
END:VCALENDAR