BEGIN:VCALENDAR
VERSION:2.0
PRODID:Events Booking
BEGIN:VEVENT
UID:69e880356a110
SUMMARY:Klubbträff Stadsbiblioteket Göteborg
DESCRIPTION:TRÄFFEN BLIR PÅ STADSBIBLIOTEKET i Göteborg
 Tema denna gå
 ng Mat och Transport. Men alla ämnen kring fjällen och planerade och ön
 skade turer kan komma upp. Det viktigaste är att vi träffas.
 Hör av d
 ig till Magnus Carlstrand innan du kommer\, på sms 070-965 03 88. Ring oc
 kså honom om du inte hittar oss.
DTSTART:20260420T150000Z
DTEND:20260420T173000Z
DTSTAMP:20241112T124018Z
ORGANIZER;CN=Svenska Fjällklubben:MAILTO:joomla@fjallklubben.se
END:VEVENT
END:VCALENDAR