BEGIN:VCALENDAR
VERSION:2.0
PRODID:Events Booking
BEGIN:VEVENT
UID:69e839aff207e
SUMMARY:Klubbträff Botaniska trädgården
DESCRIPTION:Vi träffas på caféet i Botaniska trädgården\, för samtal 
 och utbyte kring kommande fjällturer och annat som har med fjällen att g
 öra.
 Drop-in mellan kl 17-18\, sen följer de som vill med på en prome
 nad och fortsätter samtalet till ca kl 19.
 Anmäl att du kommer till Fr
 edrik Hagstedt på sms 0768-196734.
DTSTART:20220601T150000Z
DTEND:20220601T170000Z
DTSTAMP:20220416T132806Z
ORGANIZER;CN=Svenska Fjällklubben:MAILTO:joomla@fjallklubben.se
END:VEVENT
END:VCALENDAR