BEGIN:VCALENDAR
VERSION:2.0
PRODID:Events Booking
BEGIN:VEVENT
UID:69e839bce8d55
SUMMARY:Klubbträff i Botaniska/Änggårdsbergen
DESCRIPTION:Vi testar vårt nya koncept igen\, denna gången har vi säkert
  minnen från sommarens vandringar att prata om.
 Kom och häng med oss\,
  dela med dig av dina erfarenheter och ställ vilka frågor du vill. Om va
 ndringar\, utrustning\, mat och så vidare. Vi är nyfikna på alla medlem
 mar\, vi vill gärna lära känna dig som har fjällintresse på ena eller
  andra sättet.
 Vi möts mellan kl 17-18 (drop in) vid Paviljongen i Bot
 aniska\, kom tidigt om du vill äta/fika. Kl 18 går vi på en promenad en
  timme en bit in i Änggårdsbergen\, och samtalet fortsätter.
 Anmälan
 : Meddela gärna att du kommer\, så vi vet ungefär hur många vi blir. S
 ms till Fredrik Hagstedt: 0768-196734
DTSTART:20210901T150000Z
DTEND:20210901T170000Z
DTSTAMP:20260422T050012Z
ORGANIZER;CN=Svenska Fjällklubben:MAILTO:joomla@fjallklubben.se
END:VEVENT
END:VCALENDAR