BEGIN:VCALENDAR
VERSION:2.0
PRODID:Events Booking
BEGIN:VEVENT
UID:69e83cbecfb62
SUMMARY:Klubbträff i Botaniska/Änggårdsbergen
DESCRIPTION:Vi kör vårt nya koncept igen!
 Kom och häng med oss\, dela 
 med dig av dina erfarenheter och ställ vilka frågor du vill. Om vandring
 ar\, utrustning\, mat och så vidare. Vi är nyfikna på alla medlemmar\, 
 vi vill gärna lära känna dig som har fjällintresse på ena eller andra
  sättet.
 Vi möts mellan kl 17-18 (drop in) vid Paviljongen i Botaniska
 \, kom tidigt om du vill äta/fika. Kl 18 går vi på en promenad en timme
  en bit in i Änggårdsbergen\, och samtalet fortsätter.
 Anmälan: Medd
 ela gärna att du kommer\, så vi vet ungefär hur många vi blir. Sms til
 l Fredrik Hagstedt: 0768-196734
DTSTART:20211001T150000Z
DTEND:20211001T170000Z
DTSTAMP:20260422T051302Z
ORGANIZER;CN=Svenska Fjällklubben:MAILTO:joomla@fjallklubben.se
END:VEVENT
END:VCALENDAR