BEGIN:VCALENDAR
VERSION:2.0
PRODID:Events Booking
BEGIN:VEVENT
UID:69e83b08643f0
SUMMARY:Klubbträff i Botaniska/Änggårdsbergen
DESCRIPTION:Kom och häng med oss\, dela med dig av dina erfarenheter och s
 täll vilka frågor du vill. Om vandringar\, utrustning\, mat och så vida
 re. Vi är nyfikna på alla medlemmar\, vi vill gärna lära känna dig so
 m har fjällintresse på ena eller andra sättet.
 Vi möts mellan kl 17-
 18 (drop in) vid Paviljongen i Botaniska\, kom tidigt om du vill äta/fika
 . Kl 18 går vi på en promenad en timme en bit in i Änggårdsbergen\, oc
 h samtalet fortsätter.
 Meddela gärna att du kommer\, så vi vet ungef
 är hur många vi blir. Sms till Fredrik Hagstedt: 0768-196734
DTSTART:20210601T150000Z
DTEND:20210601T170000Z
DTSTAMP:20260422T050544Z
ORGANIZER;CN=Svenska Fjällklubben:MAILTO:joomla@fjallklubben.se
END:VEVENT
END:VCALENDAR