BEGIN:VCALENDAR
VERSION:2.0
PRODID:Events Booking
BEGIN:VEVENT
UID:69e825fa25ced
SUMMARY:Konsten att lyckas med sina fjällbilder - ändrat datum
DESCRIPTION:Vad: Föreläsning om fjällfotografering
 När: Tisdagen 14/1
 1 kl 18.00 (obs! ändrat datum!)
 Var: Team Hälsa. Göteborgsvägen 97 i
  Mölndal. (Kollektivtrafik: hållplats Krokslätts fabriker)
 Föreläsa
 re: Thomas Schön\, utbildad och yrkesverksam vid fotografiprogrammet på 
 Göteborgs Universitet.
 * Hur får jag mina bilder att framhäva det jag
  det jag vill förmedla? * Vilka faktorer och förutsättningar påverkas 
 bilden av?* Vilka förutsättningar ger olika typer av kamerautrustningar?
 
 En föreläsning med fokus på fotografering för de som vill få ut li
 te mer av sin fotografering i samband med fjällvistelse. Vi benar ut hur 
 vi kan påverka bildens innehåll och estetik utifrån lite olika föruts
 ättningar.
 PS! Ta gärna med en egen bild (digital eller i pappersforma
 t) som du är nöjd med/tycker om.
 Anmälan: Thomas Schön\, e-post thom
 as . schon32 @ gmail . com (ta bort mellanrummen i adressen) senast sönda
 g 12/11 .
DTSTART:20231114T170000Z
DTSTAMP:20230908T082001Z
ORGANIZER;CN=Svenska Fjällklubben:MAILTO:joomla@fjallklubben.se
END:VEVENT
END:VCALENDAR