BEGIN:VCALENDAR
VERSION:2.0
PRODID:Events Booking
BEGIN:VEVENT
UID:69e83ac633b2c
SUMMARY:Långvandring Kroppefjäll
DESCRIPTION:En del av oss gillar att då och då ge oss ut på en rejäl da
 gstur\, vandra ganska raskt och hålla på länge. Om du relativt lätt kl
 arar av minst två mil i kuperad terräng\, varför inte pröva tre mil? M
 en lika bra att varna – det kommer att bli ansträngande\, för detta ä
 r varierad vandring med en hel del rejäla backar och bitvis lite krångli
 ga stigar. Å andra sidan ska vi vistas i storslagen natur med en hel del 
 vildmarkskänsla. Och hur ansträngande något är beror ju förstås på 
 konditionen.
 Vi kommer att vandra längs Kroppefjällsleden. För att hi
 nna under en lång dag kommer tempot att bli rätt så högt. Ambitionen 
 är ändå att njuta av turen och trots ansträngning vara så avslappnade
  som möjligt. Vi tar många kortare raster och en längre lunchrast.
 L
 äs mer om Kroppefjällsleden: https://www.westswedentrails.com/delled/kro
 ppefjallsleden
 Samlingsplats: parkering intill campingplatsen vid Ragner
 udssjön\, några km från Högsäter. Vi startar kl 8.00.
 Eftersom det 
 är tidig start kan övernattning på campingen vara en idé. Läs här: h
 ttps://ragnerud.com/ Åtminstone en medlem har sagt att han kommer att öv
 ernatta.
 Behöver du hjälp att ta dig till vandringen? Hör av dig så 
 planerar vi samåkning.
 Fler detaljer kommer när det närmar sig.
 Obl
 igatorisk anmälan: Fredrik Hagstedt\, 0768196734 samt hagstedt @ bahnhof.
 se senast fredag 6 maj.
 
DTSTART:20220508T060000Z
DTEND:20220508T170000Z
DTSTAMP:20220303T093224Z
ORGANIZER;CN=Svenska Fjällklubben:MAILTO:joomla@fjallklubben.se
END:VEVENT
END:VCALENDAR