BEGIN:VCALENDAR
VERSION:2.0
PRODID:Events Booking
BEGIN:VEVENT
UID:69e851d86ddda
SUMMARY:Löpa Gröna bandet
DESCRIPTION:Ebbe Borg berättar om sitt äventyr när han sommaren 2017 gav
  sig iväg på den kanske ultimata fjällturen i Sverige\, Gröna bandet\;
  från Treriksröset till Grövelsjön en sträcka på 1 300 kilometer. Eb
 be kommer att prata om vilka förberedelser som behövs för att klara av 
 en sådan lång löptur och om upplevelser längs vägen. Löpning i fjäl
 len är en aktivitet som har ökat i popularitet och Ebbe är säker på a
 tt om man vågar gå utanför sin egen komfortzon så klarar man bra mycke
 t mer än vad man tror. Ebbe Borg är nybliven medlem i Svenska Fjällklub
 ben och bor i Göteborg.
 Lokal: Sternstugan i Skatås. 
 Info: Jesper H
 olst\, 070-214 22 82
DTSTART:20180312T180000Z
DTSTAMP:20260422T064304Z
ORGANIZER;CN=Svenska Fjällklubben:MAILTO:joomla@fjallklubben.se
END:VEVENT
END:VCALENDAR