BEGIN:VCALENDAR
VERSION:2.0
PRODID:Events Booking
BEGIN:VEVENT
UID:69e8507f6d9e7
SUMMARY:Lucia
DESCRIPTION:OBS nytt datum!
 Vårt traditionella luciafirande med lussekat
 ter\, kaffe\, glögg m.m. Ta med dig egna bilder och berättelser (10–15
  min) från årets eller tidigare års fjällturer. Detta är ett utmärkt
  sätt att få inspiration för nya turer i fjällen. Redan nu kan vi utlo
 va bilder från Sarek och Gröna Bandet.
 Lokal:&nbsp\;Fästet\, IK Vikin
 gens klubbstuga vid Slottsskogsvallen
 Info: Jesper Holst tel. 070-214 22
  82
DTSTART:20191210T180000Z
DTEND:20191210T200000Z
DTSTAMP:20260422T063719Z
ORGANIZER;CN=Svenska Fjällklubben:MAILTO:joomla@fjallklubben.se
END:VEVENT
END:VCALENDAR