BEGIN:VCALENDAR
VERSION:2.0
PRODID:Events Booking
BEGIN:VEVENT
UID:69e851cf09da1
SUMMARY:Lucia-samling
DESCRIPTION:Traditionellt luciafirande i Sternstugan med hembakta lussekatt
 er\, kaffe\, glögg m.m. Ta med dig dina bilder och berättelser (10–15 
 min) från årets eller tidigare års aktiviteter.
 Lokal: Sternstugan i 
 Skatås. Karta
 Info:&nbsp\;Jesper Holst tel. 070-214 22 82
DTSTART:20181210T180000Z
DTEND:20181209T230000Z
DTSTAMP:20260422T064255Z
ORGANIZER;CN=Svenska Fjällklubben:MAILTO:joomla@fjallklubben.se
END:VEVENT
END:VCALENDAR