BEGIN:VCALENDAR
VERSION:2.0
PRODID:Events Booking
BEGIN:VEVENT
UID:69e83a87374e0
SUMMARY:Lucia-träff
DESCRIPTION:Traditionellt luciafirande i Fästet med hembakta lussekatter\,
  kaffe\, glögg m.m. Ta med dig egna bilder och berättelser (ca 10 min) f
 rån årets eller tidigare års aktiviteter i de skandinaviska fjällen. D
 etta är ett utmärkt sätt att få inspiration för nya turer.
 Föranm
 älan:&nbsp\;senast 4 december till Fredrik Hagstedt\, sms 0768-19 67 34 e
 ller mejl hagstedt(a)bahnhof.se.&nbsp\; (a)=@ Meddela om du vill visa bild
 er senast 1 december.
 Lokal: Fästet\, IK Vikingens klubbstuga vid Slott
 sskogsvallen. Karta.
 
DTSTART:20211206T180000Z
DTEND:20211206T200000Z
DTSTAMP:20260422T050335Z
ORGANIZER;CN=Svenska Fjällklubben:MAILTO:joomla@fjallklubben.se
END:VEVENT
END:VCALENDAR