BEGIN:VCALENDAR
VERSION:2.0
PRODID:Events Booking
BEGIN:VEVENT
UID:69e84fb9cd58e
SUMMARY:Lucia-träff ---OBS Inställt----
DESCRIPTION:På grund av rådande situation&nbsp\; med Corona och de lokala
  råden för Västra Götaland så väljer vi att ställa in den här trä
 ffen.&nbsp\;
 Vårt traditionella luciafirande med hembakta lussekatter\,
  kaffe\, glögg m.m. Ta med dig egna bilder och berättelser (10–15 min)
  från årets eller tidigare års fjällturer. Detta är ett utmärkt sät
 t att få inspiration för nya turer i fjällen.
 Lokal:&nbsp\;Fästet\, 
 IK Vikingens klubbstuga vid Slottsskogsvallen
 Info: Jesper Holst tel. 07
 0-214 22 82
 
DTSTART:20201214T180000Z
DTEND:20201214T200000Z
DTSTAMP:20260422T063401Z
ORGANIZER;CN=Svenska Fjällklubben:MAILTO:joomla@fjallklubben.se
END:VEVENT
END:VCALENDAR