BEGIN:VCALENDAR
VERSION:2.0
PRODID:Events Booking
BEGIN:VEVENT
UID:69e851d88443b
SUMMARY:Lucia
DESCRIPTION:Traditionellt luciafirande i Sternstugan med hembakta lussekatt
 er\, kaffe\, glögg m.m. Ta med dig egna bilder och berättelser (10–15 
 min) från årets eller tidigare års aktiviteter.
 Lokal: Sternstugan i 
 Skatås
 Info: Jesper Holst 070 2142282
DTSTART:20171211T180000Z
DTSTAMP:20260422T064304Z
ORGANIZER;CN=Svenska Fjällklubben:MAILTO:joomla@fjallklubben.se
END:VEVENT
END:VCALENDAR