BEGIN:VCALENDAR
VERSION:2.0
PRODID:Events Booking
BEGIN:VEVENT
UID:69e83a918342d
SUMMARY:Luciafirande
DESCRIPTION:Luciafirande med lussekatter\, kaffe\, glögg m.m.
 Ta med dig
  egna bilder\, 4-5 stycken\, och berätta om en plats eller upplevelse fr
 ån årets eller tidigare års aktiviteter i de skandinaviska fjällen. De
 tta är ett utmärkt sätt att få inspiration för nya turer.
 Plats: Te
 am Hälsa\, Göteborgsvägen 97 i Mölndal (hållplats Krokslätts fabrike
 r)
DTSTART:20221212T180000Z
DTEND:20221212T200000Z
DTSTAMP:20220923T065933Z
ORGANIZER;CN=Svenska Fjällklubben:MAILTO:joomla@fjallklubben.se
END:VEVENT
END:VCALENDAR