BEGIN:VCALENDAR
VERSION:2.0
PRODID:Events Booking
BEGIN:VEVENT
UID:69e8242d6693a
SUMMARY:Luciafirande - INSTÄLLT
DESCRIPTION:Luciafirande med lussekatter\, kaffe\, glögg m.m. - Tyvärr IN
 STÄLLT
 Ta med dig egna bilder\, 4-5 stycken\, och berätta om en plats 
 eller upplevelse från årets eller tidigare års aktiviteter i de skandin
 aviska fjällen. Detta är ett utmärkt sätt att få inspiration för nya
  turer.
 Plats: Team Hälsa\, Göteborgsvägen 97 i Mölndal (hållplats 
 Krokslätts fabriker)
 Anmälan: Fredrik Hagstedt\, sms 0768196734 eller 
 e-post hagstedt @ bahnhof . se (ta bort mellanrummen i adressen) senast fr
 edag 8/12. Meddela gärna om du tar med bilder.
DTSTART:20231211T180000Z
DTEND:20231211T200000Z
DTSTAMP:20220923T065933Z
ORGANIZER;CN=Svenska Fjällklubben:MAILTO:joomla@fjallklubben.se
END:VEVENT
END:VCALENDAR