BEGIN:VCALENDAR
VERSION:2.0
PRODID:Events Booking
BEGIN:VEVENT
UID:69e8538f0fea5
SUMMARY:Lyssningsvandring på Bredfjället - för att uppleva mer\, tillsam
 mans
DESCRIPTION:Vid vandring ensam i naturen brukar sinnena skärpas. I grupp h
 änder det ofta att samtal tar över intrycken. Vid en del av den här van
 dringen ska vi pröva att gå helt i tystnad\, och lyssna så uppmärksamt
  vi vill på omgivningen\, och kanske inåt på oss själva. Efter en stun
 d stannar vi upp och reflekterar\, och berättar för varandra om vad vi h
 ar upplevt. För övrigt är det en normal skogsvandring\, på Bredfjälle
 t utanför Ljungskile. Ett utmarksområde med spännande och varierad vild
 marksterräng med några inslag av lämningar från 1800-tals bosättninga
 r. Här liksom i Svartedalen passerar Bohusleden på tallbarrsbeklädda mo
 sskantade stigar. Området som ligger ca 200möh är känt för sin vandri
 ngsvänliga karaktär med möjligheter till många olika stigval.
 Vandri
 ngsturen turens längd: ca 10 km eller ca 4\,5 tim inkl. fikarast.
 Anmä
 lan Senast torsdagen 15/10 till Fredrik Hagstedt&nbsp\;fredrik@medvetenhet
 sverkstad.se
 Samlingsplats: Friluftsanläggningen ca 4 km in på vägen 
 från Ljungskile upp på Bredfjället (se karta).
 Meddela Fredrik om du 
 har behov av samåkning. Upphämtning kommer vara möjlig vid Ljungskile s
 tation\,
 Info: Fredrik Hagstedt 076-8196734 och Thomas Schön 073-257637
 6
 
DTSTART:20201018T080000Z
DTEND:20201018T130000Z
DTSTAMP:20260422T065023Z
ORGANIZER;CN=Svenska Fjällklubben:MAILTO:joomla@fjallklubben.se
END:VEVENT
END:VCALENDAR