BEGIN:VCALENDAR
VERSION:2.0
PRODID:Events Booking
BEGIN:VEVENT
UID:69e8518c63da3
SUMMARY:Matcirkel: ”Torka\, laga\, bjud”
DESCRIPTION:Inför årets vår- och sommaräventyr träffas vi för att del
 a recept\, inspirera varandra och komma igång med att tork mat. Vi lagar 
 till vår medhavda torkade mat på vårt egna utekök/trangia. Det räcker
  att laga 2 portioner då tanken är att smaka av varandras rätter.
 Gl
 öm inte att ta med något att sitta på samt egen dryck
 Plats: Sjöberg
 ens Koloniområde\,med utsikt över havet och hamninloppet
 Info: Fanny K
 ivimäki\, 070-672 80 65
DTSTART:20190120T110000Z
DTEND:20190119T230000Z
DTSTAMP:20260422T064148Z
ORGANIZER;CN=Svenska Fjällklubben:MAILTO:joomla@fjallklubben.se
END:VEVENT
END:VCALENDAR