BEGIN:VCALENDAR
VERSION:2.0
PRODID:Events Booking
BEGIN:VEVENT
UID:69e83a1faa79c
SUMMARY:Med karta och kompass i fjällen
DESCRIPTION:Hans och Ingrid Carlstedt är orienterare som också har lång 
 erfarenhet och intresse av fjällvärlden. De skrev för ett antal år sed
 an boken Med karta och kompass i fjällen - en handbok för fjällvandrare
 .
 På dagens aktivitet går de igenom och vi får pröva grunderna för 
 orientering i fjällmiljö och att säkert hitta fram utanför lederna. De
  tar upp säkerhet\, vad man behöver tänka på vid dåligt väder och si
 tuationer kring orientering på sommar- och vinterfjäll. Medtag egen komp
 ass.&nbsp\;
 Det blir en kombination av praktiska moment&nbsp\; utomhus o
 ch teori inomhus.
 Obligatorisk anmälan: senast 7/10 till Anna Sjödin 0
 730-867967 eller annaksjodin@hotmail.com
 Tid och plats: Samling vid Skat
 ås motionscentral. Start 10.00. Sluttid ca 15.00.
 Övrigt: Medtag kompa
 ss och egen fika
 &nbsp\;
DTSTART:20211010T080000Z
DTEND:20211010T130000Z
DTSTAMP:20260422T050151Z
ORGANIZER;CN=Svenska Fjällklubben:MAILTO:joomla@fjallklubben.se
END:VEVENT
END:VCALENDAR