BEGIN:VCALENDAR
VERSION:2.0
PRODID:Events Booking
BEGIN:VEVENT
UID:69e8242d6b0bf
SUMMARY:Medlemsträff Botaniska
DESCRIPTION:Vi träffas i caféet ca kl 17 (drop in) och pratar om kommande
  fjällturer och annat kring fjällen. Kl 18-19 tar vi en promenad i träd
 gården.
 Meddela gärna att du kommer till Fredrik Hagstedt på sms/tele
 fon: 0768-19 67 34
DTSTART:20240523T150000Z
DTEND:20240523T170000Z
DTSTAMP:20230301T202800Z
ORGANIZER;CN=Svenska Fjällklubben:MAILTO:joomla@fjallklubben.se
END:VEVENT
END:VCALENDAR