BEGIN:VCALENDAR
VERSION:2.0
PRODID:Events Booking
BEGIN:VEVENT
UID:69e853564a72b
SUMMARY:Om det svenska Fjällrävsprojektet
DESCRIPTION:Det är en ynnest att få se de nyfikna och vackra fjällrävar
 na när man är ute på fjället under en vandring. Men fjällräven är e
 n art som under lång tid varit på randen till utrotning i de skandinavis
 ka fjällen.”
 Karin Norén och Johan Wallén från Stockholms Universi
 tet kommer och presenterar de senaste rönen från Fjällrävsprojektet. S
 venska Fjällrävsprojektet är en forskningsgrupp vid Stockholms universi
 tet som bedriver forskning om fjällrävens samspel med andra arter i ekos
 ystemet\, samt dess överlevnad\, demografi och genetik.
 Lokal: Naturhis
 toriska museet\, Göteborg
 Info: Jesper Holst\, 070-214 22 82
 
 
DTSTART:20190314T170000Z
DTSTAMP:20260422T064926Z
ORGANIZER;CN=Svenska Fjällklubben:MAILTO:joomla@fjallklubben.se
END:VEVENT
END:VCALENDAR