BEGIN:VCALENDAR
VERSION:2.0
PRODID:Events Booking
BEGIN:VEVENT
UID:69e8512b59284
SUMMARY:Permafrostens vara eller icke vara
DESCRIPTION:Permafrost innebär att marken är frusen året runt och detta 
 fenomen finns främst i Arktis men även i Svenska fjällen. Permafrosten 
 har många kopplingar mot klimatförändringarna som sker idag. Mats Björ
 kman\, Forskare vid institutionen för Geovetenskaper på Göteborgs Unive
 rsitet\, kommer och berättar mer om Permafrosten och vad som kommer att h
 ända i framtiden. Genom att utgå från permafrosten i de svenska fjälle
 n med en tyngdpunkt på området runt Abisko kommer vi lära oss mer om Pe
 rmafrost och dess betydelse.
 Lokal: Naturhistoriska museet i Göteborg. 
 Linneplatsen.
 Info: Jesper Holst\, 070-214 22 82
 
DTSTART:20191010T160000Z
DTEND:20191010T170000Z
DTSTAMP:20260422T064011Z
ORGANIZER;CN=Svenska Fjällklubben:MAILTO:joomla@fjallklubben.se
END:VEVENT
END:VCALENDAR