BEGIN:VCALENDAR
VERSION:2.0
PRODID:Events Booking
BEGIN:VEVENT
UID:69e851696624b
SUMMARY:Vandring på Lövön
DESCRIPTION:
 
 
 
 Ta tillfället i akt och få en härlig vandring i 
 varierad natur på en av de mindre välbesökta öarna i Hakefjorden. På 
 Lövön tar vi en lugn promenad på grusväg på ca 20 minuter från färj
 a upp till stuga där vi samlas. Här kan eventuella packning och annat so
 m man inte behöver under vandringen lämnas.
 Kl 10.00 börjar den guida
 de vandringen runt ön. En lokal guide visar oss runt och berättar om ön
 s historia.
 Vi räknar med en vandring på ca. 6-7 km i varierad terrän
 g. Till största del på stig men det kommer även finnas inslag av klippo
 r och lite brantare partier. Dock inget som är svårvandrat.
 Vi bedöme
 r att vandringen tar ca 2 timmar. Efter vandring återsamlas vi vid stuga 
 och äter medhavd fika/lunch. Vid regn och kyla finns möjlighet att sitta
  inomhus. Efter fikat finns tid för bad och egna strövtåg.
 Anmälan: 
 Senast den 18/9 till Kent Hofmann på telefon/SMS 073-414 27 08.
 Samling
 splats: Rörtångens brygga där båten avgår 09.05. Missa inte båten! K
 arta
 Transport: Parkera på allmän parkering vid infarten till Rörtån
 gen och därefter ca 5 minuters promenad till färjebryggan. Fri parkering
 . Det finns några få parkeringsplatser nere vid hamnen som även de är 
 gratis men dessa brukar oftast vara upptagna. Övriga platser runt hamnen 
 är förhyrda. Västtrafiks färja avgår 9.05 från Rörtångens brygga o
 ch det tar 15 minuter ut till Lövön.Hemfärd är 14.45 från Lövön och
  även den tar 15 minuter till Rörtången.
 Övrigt: Missa inte att anm
 äla dig till Kent\, han ombesörjer även kontakten med färjan. Glöm in
 te lunch/fika samt möjlighet att betala färdbiljett på färjan.
 
 

  
 
DTSTART:20200920T070500Z
DTEND:20200920T130000Z
DTSTAMP:20260422T064113Z
ORGANIZER;CN=Svenska Fjällklubben:MAILTO:joomla@fjallklubben.se
END:VEVENT
END:VCALENDAR