BEGIN:VCALENDAR
VERSION:2.0
PRODID:Events Booking
BEGIN:VEVENT
UID:69e8527c05367
SUMMARY:Laponia
DESCRIPTION:Långt uppe i norra Sverige ligger Världsarvet Laponia som bes
 tår av flera av våra mest kända nationalparker. Vi kommer få besök av
  Jenny Carlsson som är föreståndare på Naturum Laponia. Jenny kommer t
 ill oss och berättar mer om världsarvet. Området har fått sin status t
 ack vare den fantastiska naturen och den samiska kulturen.
 OBS: Ny före
 läsare. Samma lokal och tid!
 Lokal: Naturhistoriska museet\, Göteborg
 
 Info: Jesper Holst\, 070-214 22 82
 
DTSTART:20190328T170000Z
DTSTAMP:20260422T064548Z
ORGANIZER;CN=Svenska Fjällklubben:MAILTO:joomla@fjallklubben.se
END:VEVENT
END:VCALENDAR