BEGIN:VCALENDAR
VERSION:2.0
PRODID:Events Booking
BEGIN:VEVENT
UID:69e852b201af0
SUMMARY:Torka din egna friluftsmat
DESCRIPTION:Lyft din nästa fjälltur till en ny dimension genom att ta med
  dig friluftsmat som du gjort själv. Förvandla fjällturen till en kulin
 arisk höjdpunkt i stället för den tråkiga frystorkade maten från fabr
 iken.
 Maud Söderberg håller en inspirationsförläsning och delar med 
 sig av sina erfarenheter och ger handfasta tips om hur man går tillväga 
 för att torka sin friluftsmat. Om intresse finns kommer vi att följa upp
  föreläsningen med praktiska övningar vid ett senare tillfälle.
 Loka
 l: Fästet\, IK Vikingens klubbstuga vid Slottsskogsvallen. Karta.&nbsp\;N
 ärmaste spårvagnshållplats är Botaniska Trädgården som ligger cirka 
 400 meter bort.
 Info: Jesper Holst\, 070-214 22 82
DTSTART:20181022T170000Z
DTEND:20181021T220000Z
DTSTAMP:20260422T064642Z
ORGANIZER;CN=Svenska Fjällklubben:MAILTO:joomla@fjallklubben.se
END:VEVENT
END:VCALENDAR